BEGIN:VCALENDAR
CALSCALE:GREGORIAN
PRODID:-//Ben Fortuna//iCal4j 1.0//EN
VERSION:2.0
BEGIN:VEVENT
DTSTAMP:20260120T150010Z
DTSTART:20260120T113000
DTEND:20260120T133000
SUMMARY:H. 716\n\nBill Introduction\n\nRep. Christopher Morrow\, Bill Spo
 nsor - Room 32
TZID:America/New_York
UID:20260120T150018Z-uidGen@richgoldman-357e73
END:VEVENT
BEGIN:VALARM
TRIGGER:-PT15M
ACTION:DISPLAY
DESCRIPTION:H. 716\n\nBill Introduction\n\nRep. Christopher Morrow\, Bill
  Sponsor - Room 32
END:VALARM
END:VCALENDAR
