BEGIN:VCALENDAR
CALSCALE:GREGORIAN
PRODID:-//Ben Fortuna//iCal4j 1.0//EN
VERSION:2.0
BEGIN:VEVENT
DTSTAMP:20260120T160010Z
DTSTART:20260120T104500
DTEND:20260120T124500
SUMMARY:BlueCross BlueShield of Vermont\n\nCourtney Harrness\, Director o
 f Legislative and Government Relations\, Blue Cross Blue Shield of Vermo
 nt - Room 17
TZID:America/New_York
UID:20260120T160026Z-uidGen@richgoldman-357e73
END:VEVENT
BEGIN:VALARM
TRIGGER:-PT15M
ACTION:DISPLAY
DESCRIPTION:BlueCross BlueShield of Vermont\n\nCourtney Harrness\, Direct
 or of Legislative and Government Relations\, Blue Cross Blue Shield of V
 ermont - Room 17
END:VALARM
END:VCALENDAR
