BEGIN:VCALENDAR
CALSCALE:GREGORIAN
PRODID:-//Ben Fortuna//iCal4j 1.0//EN
VERSION:2.0
BEGIN:VEVENT
DTSTAMP:20260120T190009Z
DTSTART:20260120T104500
DTEND:20260120T124500
SUMMARY:Insurance Solvency Brief\n\nKaj Samsom\, Commissioner\, Departmen
 t of Financial Regulation\n\nMary Block\, Deputy Commissioner of Insuran
 ce\, Department of Financial Regulation - Room 17
TZID:America/New_York
UID:20260120T190013Z-uidGen@richgoldman-357e73
END:VEVENT
BEGIN:VALARM
TRIGGER:-PT15M
ACTION:DISPLAY
DESCRIPTION:Insurance Solvency Brief\n\nKaj Samsom\, Commissioner\, Depar
 tment of Financial Regulation\n\nMary Block\, Deputy Commissioner of Ins
 urance\, Department of Financial Regulation - Room 17
END:VALARM
END:VCALENDAR
