BEGIN:VCALENDAR
CALSCALE:GREGORIAN
PRODID:-//Ben Fortuna//iCal4j 1.0//EN
VERSION:2.0
BEGIN:VEVENT
DTSTAMP:20260120T160010Z
DTSTART:20260120T103500
DTEND:20260120T123500
SUMMARY:S. 208 - An act relating to standards for law enforcement identif
 ication\n\nDiscussion and Markup\n\nSophie Zdatny\, Legislative Counsel\
 , Office of Legislative Counsel\n\nHillary Chutter-Ames\, Legislative Co
 unsel\, Office of Legislative Counsel - Room 1
TZID:America/New_York
UID:20260120T160022Z-uidGen@richgoldman-357e73
END:VEVENT
BEGIN:VALARM
TRIGGER:-PT15M
ACTION:DISPLAY
DESCRIPTION:S. 208 - An act relating to standards for law enforcement ide
 ntification\n\nDiscussion and Markup\n\nSophie Zdatny\, Legislative Coun
 sel\, Office of Legislative Counsel\n\nHillary Chutter-Ames\, Legislativ
 e Counsel\, Office of Legislative Counsel - Room 1
END:VALARM
END:VCALENDAR
