BEGIN:VCALENDAR
CALSCALE:GREGORIAN
PRODID:-//Ben Fortuna//iCal4j 1.0//EN
VERSION:2.0
BEGIN:VEVENT
DTSTAMP:20260120T210010Z
DTSTART:20260120T113000
DTEND:20260120T133000
SUMMARY:Mileage-Based User Fee\n\nRoad Usage Charge Guide walk-through\n\
 nRoshini Durand Mootoosamy\, Policy and Service Design\, CDM Smith\n\nJe
 nny Roberts\, RUC Discipline Leader\, CDM Smith - Room 3
TZID:America/New_York
UID:20260120T210010Z-uidGen@richgoldman-357e73
END:VEVENT
BEGIN:VALARM
TRIGGER:-PT15M
ACTION:DISPLAY
DESCRIPTION:Mileage-Based User Fee\n\nRoad Usage Charge Guide walk-throug
 h\n\nRoshini Durand Mootoosamy\, Policy and Service Design\, CDM Smith\n
 \nJenny Roberts\, RUC Discipline Leader\, CDM Smith - Room 3
END:VALARM
END:VCALENDAR
