BEGIN:VCALENDAR
CALSCALE:GREGORIAN
PRODID:-//Ben Fortuna//iCal4j 1.0//EN
VERSION:2.0
BEGIN:VEVENT
DTSTAMP:20260120T190009Z
DTSTART:20260120T105000
DTEND:20260120T125000
SUMMARY:Vermont Chamber of Commerce\n\nHousing Update\n\nMegan Sullivan\,
  Vice President of Government Affairs\, Vermont Chamber of Commerce - Ro
 om 27
TZID:America/New_York
UID:20260120T190015Z-uidGen@richgoldman-357e73
END:VEVENT
BEGIN:VALARM
TRIGGER:-PT15M
ACTION:DISPLAY
DESCRIPTION:Vermont Chamber of Commerce\n\nHousing Update\n\nMegan Sulliv
 an\, Vice President of Government Affairs\, Vermont Chamber of Commerce 
 - Room 27
END:VALARM
END:VCALENDAR
