BEGIN:VCALENDAR
CALSCALE:GREGORIAN
PRODID:-//Ben Fortuna//iCal4j 1.0//EN
VERSION:2.0
BEGIN:VEVENT
DTSTAMP:20260120T160010Z
DTSTART:20260120T110000
DTEND:20260120T130000
SUMMARY:S. 213 - An act relating to the use of smart meters by public wat
 er systems\n\nHarold Remick\, Citizen\, Shoreham - Invited\n\nChris Hugh
 es\, Assistant Waster Water Treatment\, Cavendish - Invited - Room 8
TZID:America/New_York
UID:20260120T160028Z-uidGen@richgoldman-357e73
END:VEVENT
BEGIN:VALARM
TRIGGER:-PT15M
ACTION:DISPLAY
DESCRIPTION:S. 213 - An act relating to the use of smart meters by public
  water systems\n\nHarold Remick\, Citizen\, Shoreham - Invited\n\nChris 
 Hughes\, Assistant Waster Water Treatment\, Cavendish - Invited - Room 8
 
END:VALARM
END:VCALENDAR
