BEGIN:VCALENDAR
CALSCALE:GREGORIAN
PRODID:-//Ben Fortuna//iCal4j 1.0//EN
VERSION:2.0
BEGIN:VEVENT
DTSTAMP:20260120T130025Z
DTSTART:20260120T113000
DTEND:20260120T133000
SUMMARY:S. 213 - An act relating to the use of smart meters by public wat
 er systems\n\nJames Porter\, Director for Public Advocacy\, Department o
 f Public Service - Room 8
TZID:America/New_York
UID:20260120T130025Z-uidGen@richgoldman-357e73
END:VEVENT
BEGIN:VALARM
TRIGGER:-PT15M
ACTION:DISPLAY
DESCRIPTION:S. 213 - An act relating to the use of smart meters by public
  water systems\n\nJames Porter\, Director for Public Advocacy\, Departme
 nt of Public Service - Room 8
END:VALARM
END:VCALENDAR
