BEGIN:VCALENDAR
CALSCALE:GREGORIAN
PRODID:-//Ben Fortuna//iCal4j 1.0//EN
VERSION:2.0
BEGIN:VEVENT
DTSTAMP:20260120T210010Z
DTSTART:20260120T130000
DTEND:20260120T150000
SUMMARY:Governor's 2027 Budget Address\n\nJoint assembly\; House Chamber 
 - Room 32
TZID:America/New_York
UID:20260120T210013Z-uidGen@richgoldman-357e73
END:VEVENT
BEGIN:VALARM
TRIGGER:-PT15M
ACTION:DISPLAY
DESCRIPTION:Governor's 2027 Budget Address\n\nJoint assembly\; House Cham
 ber - Room 32
END:VALARM
END:VCALENDAR
