BEGIN:VCALENDAR
CALSCALE:GREGORIAN
PRODID:-//Ben Fortuna//iCal4j 1.0//EN
VERSION:2.0
BEGIN:VEVENT
DTSTAMP:20260120T150010Z
DTSTART:20260120T130100
DTEND:20260120T150100
SUMMARY:H. 639 - An act relating to genetic data privacy\n\nIntroduction 
 and Walk-through\n\nRep. Robin Scheu\, Sponsor\, House Committee on Appr
 opriations\n\nRik Sehgal\, Legislative Counsel\, Office of Legislative C
 ounsel\n\n" - Room 35
TZID:America/New_York
UID:20260120T150023Z-uidGen@richgoldman-357e73
END:VEVENT
BEGIN:VALARM
TRIGGER:-PT15M
ACTION:DISPLAY
DESCRIPTION:H. 639 - An act relating to genetic data privacy\n\nIntroduct
 ion and Walk-through\n\nRep. Robin Scheu\, Sponsor\, House Committee on 
 Appropriations\n\nRik Sehgal\, Legislative Counsel\, Office of Legislati
 ve Counsel\n\n" - Room 35
END:VALARM
END:VCALENDAR
