BEGIN:VCALENDAR
CALSCALE:GREGORIAN
PRODID:-//Ben Fortuna//iCal4j 1.0//EN
VERSION:2.0
BEGIN:VEVENT
DTSTAMP:20260120T190009Z
DTSTART:20260120T130100
DTEND:20260120T150100
SUMMARY:H. 639 - An act relating to genetic data privacy\n\nWalk-through\
 n\nRik Sehgal\, Legislative Counsel\, Office of Legislative Counsel\n\n"
  - Room 35
TZID:America/New_York
UID:20260120T190025Z-uidGen@richgoldman-357e73
END:VEVENT
BEGIN:VALARM
TRIGGER:-PT15M
ACTION:DISPLAY
DESCRIPTION:H. 639 - An act relating to genetic data privacy\n\nWalk-thro
 ugh\n\nRik Sehgal\, Legislative Counsel\, Office of Legislative Counsel\
 n\n" - Room 35
END:VALARM
END:VCALENDAR
