BEGIN:VCALENDAR
CALSCALE:GREGORIAN
PRODID:-//Ben Fortuna//iCal4j 1.0//EN
VERSION:2.0
BEGIN:VEVENT
DTSTAMP:20260120T150010Z
DTSTART:20260120T130000
DTEND:20260120T150000
SUMMARY:Governor's Budget Address\n\nJoint Assembly\, House Chamber\n\n" 
 - Room 8
TZID:America/New_York
UID:20260120T150021Z-uidGen@richgoldman-357e73
END:VEVENT
BEGIN:VALARM
TRIGGER:-PT15M
ACTION:DISPLAY
DESCRIPTION:Governor's Budget Address\n\nJoint Assembly\, House Chamber\n
 \n" - Room 8
END:VALARM
END:VCALENDAR
