BEGIN:VCALENDAR
CALSCALE:GREGORIAN
PRODID:-//Ben Fortuna//iCal4j 1.0//EN
VERSION:2.0
BEGIN:VEVENT
DTSTAMP:20260120T150010Z
DTSTART:20260120T140000
DTEND:20260120T160000
SUMMARY:H. 611 - An act relating to miscellaneous provisions affecting th
 e Department of Vermont Health Access\n\nTestimony\n\nAdaline Strumolo\,
  Deputy Commissioner\, Department of Vermont Health Access (DVHA)\n\nAle
 x McCracken\, Director of Communications and Legislative Affairs\, Depar
 tment of Vermont Health Access (DVHA) - Room 42
TZID:America/New_York
UID:20260120T150024Z-uidGen@richgoldman-357e73
END:VEVENT
BEGIN:VALARM
TRIGGER:-PT15M
ACTION:DISPLAY
DESCRIPTION:H. 611 - An act relating to miscellaneous provisions affectin
 g the Department of Vermont Health Access\n\nTestimony\n\nAdaline Strumo
 lo\, Deputy Commissioner\, Department of Vermont Health Access (DVHA)\n\
 nAlex McCracken\, Director of Communications and Legislative Affairs\, D
 epartment of Vermont Health Access (DVHA) - Room 42
END:VALARM
END:VCALENDAR
