BEGIN:VCALENDAR
CALSCALE:GREGORIAN
PRODID:-//Ben Fortuna//iCal4j 1.0//EN
VERSION:2.0
BEGIN:VEVENT
DTSTAMP:20260120T200009Z
DTSTART:20260120T140000
DTEND:20260120T160000
SUMMARY:H. 709 - An act relating to limiting overtime for medical interns
 \, resident physicians\, and physicians\n\nIntroduction\n\nRep. William 
 "Will" Greer\, Sponsor\, House Corrections and Institutions - Room 31
TZID:America/New_York
UID:20260120T200010Z-uidGen@richgoldman-357e73
END:VEVENT
BEGIN:VALARM
TRIGGER:-PT15M
ACTION:DISPLAY
DESCRIPTION:H. 709 - An act relating to limiting overtime for medical int
 erns\, resident physicians\, and physicians\n\nIntroduction\n\nRep. Will
 iam "Will" Greer\, Sponsor\, House Corrections and Institutions - Room 3
 1
END:VALARM
END:VCALENDAR
