BEGIN:VCALENDAR
CALSCALE:GREGORIAN
PRODID:-//Ben Fortuna//iCal4j 1.0//EN
VERSION:2.0
BEGIN:VEVENT
DTSTAMP:20260120T200009Z
DTSTART:20260120T140500
DTEND:20260120T160500
SUMMARY:School District Mapping\n\nCareer and Technical Education (CTE Re
 gions)\n\nas School District Boundaries Map\n\nSen. Scott Beck\, Senator
 \, School District Redistricting Task Force - Room 28
TZID:America/New_York
UID:20260120T200013Z-uidGen@richgoldman-357e73
END:VEVENT
BEGIN:VALARM
TRIGGER:-PT15M
ACTION:DISPLAY
DESCRIPTION:School District Mapping\n\nCareer and Technical Education (CT
 E Regions)\n\nas School District Boundaries Map\n\nSen. Scott Beck\, Sen
 ator\, School District Redistricting Task Force - Room 28
END:VALARM
END:VCALENDAR
