BEGIN:VCALENDAR
CALSCALE:GREGORIAN
PRODID:-//Ben Fortuna//iCal4j 1.0//EN
VERSION:2.0
BEGIN:VEVENT
DTSTAMP:20260120T220010Z
DTSTART:20260120T141500
DTEND:20260120T161500
SUMMARY:Vermont Food Bank\n\nVermonters Feeding Vermonters\n\nJohn Sayles
 \, CEO\, Vermont Foodbank\n\nAnore Horton\, Executive Director\, Hunger 
 Free Vermont\n\nBob Chapelle\, Chappelle's Vermont Potatoes\n\nCarrie St
 ahler\, Senior Government Affairs Manager\, Vermont Foodbank - Room 49
TZID:America/New_York
UID:20260120T220011Z-uidGen@richgoldman-357e73
END:VEVENT
BEGIN:VALARM
TRIGGER:-PT15M
ACTION:DISPLAY
DESCRIPTION:Vermont Food Bank\n\nVermonters Feeding Vermonters\n\nJohn Sa
 yles\, CEO\, Vermont Foodbank\n\nAnore Horton\, Executive Director\, Hun
 ger Free Vermont\n\nBob Chapelle\, Chappelle's Vermont Potatoes\n\nCarri
 e Stahler\, Senior Government Affairs Manager\, Vermont Foodbank - Room 
 49
END:VALARM
END:VCALENDAR
