BEGIN:VCALENDAR
CALSCALE:GREGORIAN
PRODID:-//Ben Fortuna//iCal4j 1.0//EN
VERSION:2.0
BEGIN:VEVENT
DTSTAMP:20260120T150010Z
DTSTART:20260120T142000
DTEND:20260120T162000
SUMMARY:H. 713 - An act relating to raising the minimum wage for employee
 s working for a national fast food chain\n\nIntroduction\n\nRep. William
  "Will" Greer\, Sponsor\, House Corrections and Institutions - Room 31
TZID:America/New_York
UID:20260120T150031Z-uidGen@richgoldman-357e73
END:VEVENT
BEGIN:VALARM
TRIGGER:-PT15M
ACTION:DISPLAY
DESCRIPTION:H. 713 - An act relating to raising the minimum wage for empl
 oyees working for a national fast food chain\n\nIntroduction\n\nRep. Wil
 liam "Will" Greer\, Sponsor\, House Corrections and Institutions - Room 
 31
END:VALARM
END:VCALENDAR
