BEGIN:VCALENDAR
CALSCALE:GREGORIAN
PRODID:-//Ben Fortuna//iCal4j 1.0//EN
VERSION:2.0
BEGIN:VEVENT
DTSTAMP:20260120T200010Z
DTSTART:20260120T142000
DTEND:20260120T162000
SUMMARY:H. 714 - An act relating to automated employment decision making 
 and State employees\n\nIntroduction\n\nRep. Monique Priestley\, Sponsor\
 , House Committee on Commerce and Economic Development - Room 31
TZID:America/New_York
UID:20260120T200022Z-uidGen@richgoldman-357e73
END:VEVENT
BEGIN:VALARM
TRIGGER:-PT15M
ACTION:DISPLAY
DESCRIPTION:H. 714 - An act relating to automated employment decision mak
 ing and State employees\n\nIntroduction\n\nRep. Monique Priestley\, Spon
 sor\, House Committee on Commerce and Economic Development - Room 31
END:VALARM
END:VCALENDAR
