BEGIN:VCALENDAR
CALSCALE:GREGORIAN
PRODID:-//Ben Fortuna//iCal4j 1.0//EN
VERSION:2.0
BEGIN:VEVENT
DTSTAMP:20260120T150010Z
DTSTART:20260120T141500
DTEND:20260120T161500
SUMMARY:Committee Discussion\n\nReports Repeal Survey - Room 6
TZID:America/New_York
UID:20260120T150028Z-uidGen@richgoldman-357e73
END:VEVENT
BEGIN:VALARM
TRIGGER:-PT15M
ACTION:DISPLAY
DESCRIPTION:Committee Discussion\n\nReports Repeal Survey - Room 6
END:VALARM
END:VCALENDAR
