BEGIN:VCALENDAR
CALSCALE:GREGORIAN
PRODID:-//Ben Fortuna//iCal4j 1.0//EN
VERSION:2.0
BEGIN:VEVENT
DTSTAMP:20260120T200010Z
DTSTART:20260120T141500
DTEND:20260120T161500
SUMMARY:S. 231 - An act relating to a family caregiver tax credit\n\nIntr
 oduction and walk-through\n\nSen. Ruth Hardy\, Sponsor\, Addison County\
 n\nKirby Keeton\, Legislative Counsel\, Office of Legislative Counsel - 
 Room 6
TZID:America/New_York
UID:20260120T200017Z-uidGen@richgoldman-357e73
END:VEVENT
BEGIN:VALARM
TRIGGER:-PT15M
ACTION:DISPLAY
DESCRIPTION:S. 231 - An act relating to a family caregiver tax credit\n\n
 Introduction and walk-through\n\nSen. Ruth Hardy\, Sponsor\, Addison Cou
 nty\n\nKirby Keeton\, Legislative Counsel\, Office of Legislative Counse
 l - Room 6
END:VALARM
END:VCALENDAR
