BEGIN:VCALENDAR
CALSCALE:GREGORIAN
PRODID:-//Ben Fortuna//iCal4j 1.0//EN
VERSION:2.0
BEGIN:VEVENT
DTSTAMP:20260120T200010Z
DTSTART:20260120T144500
DTEND:20260120T164500
SUMMARY:Yield Bill\n\nJulia Richter\, Principal Fiscal Analyst\, Joint Fi
 scal Office\n\nCheryl Scarzello \, Director of Finance\, Slate Valley Un
 ified School District\n\nTed Plemenos\, Chief Financial Officer\, Rutlan
 d City School District\n\nJacob Vezina\, Director of Finance\, Hartford 
 School District\n\nElizabeth Jennings\, President\, Vermont Association 
 of School Business Officials\n\n" - Room 45
TZID:America/New_York
UID:20260120T200032Z-uidGen@richgoldman-357e73
END:VEVENT
BEGIN:VALARM
TRIGGER:-PT15M
ACTION:DISPLAY
DESCRIPTION:Yield Bill\n\nJulia Richter\, Principal Fiscal Analyst\, Join
 t Fiscal Office\n\nCheryl Scarzello \, Director of Finance\, Slate Valle
 y Unified School District\n\nTed Plemenos\, Chief Financial Officer\, Ru
 tland City School District\n\nJacob Vezina\, Director of Finance\, Hartf
 ord School District\n\nElizabeth Jennings\, President\, Vermont Associat
 ion of School Business Officials\n\n" - Room 45
END:VALARM
END:VCALENDAR
