BEGIN:VCALENDAR
CALSCALE:GREGORIAN
PRODID:-//Ben Fortuna//iCal4j 1.0//EN
VERSION:2.0
BEGIN:VEVENT
DTSTAMP:20260120T200010Z
DTSTART:20260120T143000
DTEND:20260120T163000
SUMMARY:Committee Discussion\n\n" - Room 31
TZID:America/New_York
UID:20260120T200023Z-uidGen@richgoldman-357e73
END:VEVENT
BEGIN:VALARM
TRIGGER:-PT15M
ACTION:DISPLAY
DESCRIPTION:Committee Discussion\n\n" - Room 31
END:VALARM
END:VCALENDAR
