BEGIN:VCALENDAR
CALSCALE:GREGORIAN
PRODID:-//Ben Fortuna//iCal4j 1.0//EN
VERSION:2.0
BEGIN:VEVENT
DTSTAMP:20260120T020009Z
DTSTART:20260120T143000
DTEND:20260120T163000
SUMMARY:School District Mapping\n\nResponse to Agency of Education mappin
 g update\n\nJay Nichols\, Executive Director\, Vermont Principals' Assoc
 iation\n\nDr. Cheryl Charles\, Ph.D\, Chair\, Rural School Community All
 iance\n\nMargaret MacLean\, Steering Committee Member\, Rural School Com
 munity Alliance\n\nJeanne Albert\, Ph.D.\, Steering Committee Member\, R
 ural School Community Alliance\n\nJeff Fannon\, Executive Director\, Ver
 mont National Education Association - Invited - Room 28
TZID:America/New_York
UID:20260120T020009Z-uidGen@richgoldman-357e73
END:VEVENT
BEGIN:VALARM
TRIGGER:-PT15M
ACTION:DISPLAY
DESCRIPTION:School District Mapping\n\nResponse to Agency of Education ma
 pping update\n\nJay Nichols\, Executive Director\, Vermont Principals' A
 ssociation\n\nDr. Cheryl Charles\, Ph.D\, Chair\, Rural School Community
  Alliance\n\nMargaret MacLean\, Steering Committee Member\, Rural School
  Community Alliance\n\nJeanne Albert\, Ph.D.\, Steering Committee Member
 \, Rural School Community Alliance\n\nJeff Fannon\, Executive Director\,
  Vermont National Education Association - Invited - Room 28
END:VALARM
END:VCALENDAR
