BEGIN:VCALENDAR
CALSCALE:GREGORIAN
PRODID:-//Ben Fortuna//iCal4j 1.0//EN
VERSION:2.0
BEGIN:VEVENT
DTSTAMP:20260120T150010Z
DTSTART:20260120T143000
DTEND:20260120T163000
SUMMARY:Reports Repeal Survey\n\nJoint hearing with House Committee on Go
 vernment Operations and Military Affairs held in Room M106 and livestrea
 med at https://legislature.vermont.gov/committee/streaming/house-governm
 ent-operations-and-military-affairs .\n\nTucker Anderson\, Legislative C
 ounsel\, Office of Legislative Counsel\n\nRep. Kate Nugent\, Sponsor\, H
 ouse Committee on Government Operations and Military Affairs - Room 4
TZID:America/New_York
UID:20260120T150036Z-uidGen@richgoldman-357e73
END:VEVENT
BEGIN:VALARM
TRIGGER:-PT15M
ACTION:DISPLAY
DESCRIPTION:Reports Repeal Survey\n\nJoint hearing with House Committee o
 n Government Operations and Military Affairs held in Room M106 and lives
 treamed at https://legislature.vermont.gov/committee/streaming/house-gov
 ernment-operations-and-military-affairs .\n\nTucker Anderson\, Legislati
 ve Counsel\, Office of Legislative Counsel\n\nRep. Kate Nugent\, Sponsor
 \, House Committee on Government Operations and Military Affairs - Room 
 4
END:VALARM
END:VCALENDAR
