BEGIN:VCALENDAR
CALSCALE:GREGORIAN
PRODID:-//Ben Fortuna//iCal4j 1.0//EN
VERSION:2.0
BEGIN:VEVENT
DTSTAMP:20260120T230014Z
DTSTART:20260120T144000
DTEND:20260120T164000
SUMMARY:School District Mapping\n\nResponse to Agency of Education mappin
 g update\n\nJay Nichols\, Senior Executive Director\, Vermont Principals
 ' Association\n\nDr. Cheryl Charles\, Ph.D\, Chair\, Rural School Commun
 ity Alliance\n\nMargaret MacLean\, Steering Committee Member\, Rural Sch
 ool Community Alliance\n\nJeanne Albert\, Ph.D.\, Steering Committee Mem
 ber\, Rural School Community Alliance\n\nJeff Fannon\, Executive Directo
 r\, Vermont National Education Association - Room 28
TZID:America/New_York
UID:20260120T230015Z-uidGen@richgoldman-357e73
END:VEVENT
BEGIN:VALARM
TRIGGER:-PT15M
ACTION:DISPLAY
DESCRIPTION:School District Mapping\n\nResponse to Agency of Education ma
 pping update\n\nJay Nichols\, Senior Executive Director\, Vermont Princi
 pals' Association\n\nDr. Cheryl Charles\, Ph.D\, Chair\, Rural School Co
 mmunity Alliance\n\nMargaret MacLean\, Steering Committee Member\, Rural
  School Community Alliance\n\nJeanne Albert\, Ph.D.\, Steering Committee
  Member\, Rural School Community Alliance\n\nJeff Fannon\, Executive Dir
 ector\, Vermont National Education Association - Room 28
END:VALARM
END:VCALENDAR
