BEGIN:VCALENDAR
CALSCALE:GREGORIAN
PRODID:-//Ben Fortuna//iCal4j 1.0//EN
VERSION:2.0
BEGIN:VEVENT
DTSTAMP:20260120T160010Z
DTSTART:20260120T143000
DTEND:20260120T163000
SUMMARY:H. 627 - An act relating to crime victims’ rights in forensic cas
 es\n\nWalk-Through and Witness Testimony\n\nErik FitzPatrick\, Legislati
 ve Counsel\, Office of Legislative Counsel\n\nCharlie Gliserman\, Direct
 or of Policy\, Vermont Network Against Domestic & Sexual Violence\n\nJen
 nifer Poehlmann\, Executive Director\, Center for Crime Victim Services\
 n\nKaren Barber\, General Counsel\, Department of Mental Health\n\n" - R
 oom 30
TZID:America/New_York
UID:20260120T160030Z-uidGen@richgoldman-357e73
END:VEVENT
BEGIN:VALARM
TRIGGER:-PT15M
ACTION:DISPLAY
DESCRIPTION:H. 627 - An act relating to crime victims’ rights in forensic
  cases\n\nWalk-Through and Witness Testimony\n\nErik FitzPatrick\, Legis
 lative Counsel\, Office of Legislative Counsel\n\nCharlie Gliserman\, Di
 rector of Policy\, Vermont Network Against Domestic & Sexual Violence\n\
 nJennifer Poehlmann\, Executive Director\, Center for Crime Victim Servi
 ces\n\nKaren Barber\, General Counsel\, Department of Mental Health\n\n"
  - Room 30
END:VALARM
END:VCALENDAR
