BEGIN:VCALENDAR
CALSCALE:GREGORIAN
PRODID:-//Ben Fortuna//iCal4j 1.0//EN
VERSION:2.0
BEGIN:VEVENT
DTSTAMP:20260120T200010Z
DTSTART:20260120T143000
DTEND:20260120T163000
SUMMARY:Reports Repeal Survey\n\nThis will be a Joint Meeting with Senate
  Government Operations. It will be held in Room M106 and will be livestr
 eamed on the House Government Operations Youtube page.\n\nTucker Anderso
 n\, Legislative Counsel\, Office of Legislative Counsel\n\nRep. Kate Nug
 ent\, Sponso\, House Committee on Government Operations and Military Aff
 airs\n\n" - Room M106
TZID:America/New_York
UID:20260120T200026Z-uidGen@richgoldman-357e73
END:VEVENT
BEGIN:VALARM
TRIGGER:-PT15M
ACTION:DISPLAY
DESCRIPTION:Reports Repeal Survey\n\nThis will be a Joint Meeting with Se
 nate Government Operations. It will be held in Room M106 and will be liv
 estreamed on the House Government Operations Youtube page.\n\nTucker And
 erson\, Legislative Counsel\, Office of Legislative Counsel\n\nRep. Kate
  Nugent\, Sponso\, House Committee on Government Operations and Military
  Affairs\n\n" - Room M106
END:VALARM
END:VCALENDAR
