BEGIN:VCALENDAR
CALSCALE:GREGORIAN
PRODID:-//Ben Fortuna//iCal4j 1.0//EN
VERSION:2.0
BEGIN:VEVENT
DTSTAMP:20260120T190009Z
DTSTART:20260120T143000
DTEND:20260120T163000
SUMMARY:School District Redistricting Task Force Report: Appendix E\n\nRe
 view\n\nRep. Rebecca Holcombe\, Representative\, School District Redistr
 icting Task Force\n\n" - Room M103
TZID:America/New_York
UID:20260120T190027Z-uidGen@richgoldman-357e73
END:VEVENT
BEGIN:VALARM
TRIGGER:-PT15M
ACTION:DISPLAY
DESCRIPTION:School District Redistricting Task Force Report: Appendix E\n
 \nReview\n\nRep. Rebecca Holcombe\, Representative\, School District Red
 istricting Task Force\n\n" - Room M103
END:VALARM
END:VCALENDAR
