BEGIN:VCALENDAR
CALSCALE:GREGORIAN
PRODID:-//Ben Fortuna//iCal4j 1.0//EN
VERSION:2.0
BEGIN:VEVENT
DTSTAMP:20260120T210010Z
DTSTART:20260120T143000
DTEND:20260120T163000
SUMMARY:School District Redistricting Task Force Report: Appendix E\n\nCo
 operative Education Service Agencies\n\nReview\n\nRep. Rebecca Holcombe\
 , Representative\, School District Redistricting Task Force\n\n" - Room 
 M103
TZID:America/New_York
UID:20260120T210016Z-uidGen@richgoldman-357e73
END:VEVENT
BEGIN:VALARM
TRIGGER:-PT15M
ACTION:DISPLAY
DESCRIPTION:School District Redistricting Task Force Report: Appendix E\n
 \nCooperative Education Service Agencies\n\nReview\n\nRep. Rebecca Holco
 mbe\, Representative\, School District Redistricting Task Force\n\n" - R
 oom M103
END:VALARM
END:VCALENDAR
