BEGIN:VCALENDAR
CALSCALE:GREGORIAN
PRODID:-//Ben Fortuna//iCal4j 1.0//EN
VERSION:2.0
BEGIN:VEVENT
DTSTAMP:20260120T200010Z
DTSTART:20260120T144500
DTEND:20260120T164500
SUMMARY:Legislative Counsel Overview\n\nMunicipal Regulation of Agricultu
 re\n\nBradley Showman\, Legislative Counsel\, Office of Legislative Coun
 sel - Room 49
TZID:America/New_York
UID:20260120T200029Z-uidGen@richgoldman-357e73
END:VEVENT
BEGIN:VALARM
TRIGGER:-PT15M
ACTION:DISPLAY
DESCRIPTION:Legislative Counsel Overview\n\nMunicipal Regulation of Agric
 ulture\n\nBradley Showman\, Legislative Counsel\, Office of Legislative 
 Counsel - Room 49
END:VALARM
END:VCALENDAR
