BEGIN:VCALENDAR
CALSCALE:GREGORIAN
PRODID:-//Ben Fortuna//iCal4j 1.0//EN
VERSION:2.0
BEGIN:VEVENT
DTSTAMP:20260120T210010Z
DTSTART:20260120T143000
DTEND:20260120T163000
SUMMARY:Budget Adjustment Act\n\nDepartment of Public Safety\n\nJennifer 
 Morrison\, Commissioner\, Department of Public Safety\n\nDaniel Batsie\,
  Deputy Commissioner\, Department of Public Safety\n\nColonel Matthew Bi
 rmingham\, Colonel\, Vermont State Police\n\nMajor Shawn Loan\, Criminal
  Division Commander\, Vermont State Police\n\nJeffrey Wallin\, Director\
 , Vermont Crime Information Center\, Department of Public Safety - Room 
 5
TZID:America/New_York
UID:20260120T210020Z-uidGen@richgoldman-357e73
END:VEVENT
BEGIN:VALARM
TRIGGER:-PT15M
ACTION:DISPLAY
DESCRIPTION:Budget Adjustment Act\n\nDepartment of Public Safety\n\nJenni
 fer Morrison\, Commissioner\, Department of Public Safety\n\nDaniel Bats
 ie\, Deputy Commissioner\, Department of Public Safety\n\nColonel Matthe
 w Birmingham\, Colonel\, Vermont State Police\n\nMajor Shawn Loan\, Crim
 inal Division Commander\, Vermont State Police\n\nJeffrey Wallin\, Direc
 tor\, Vermont Crime Information Center\, Department of Public Safety - R
 oom 5
END:VALARM
END:VCALENDAR
