BEGIN:VCALENDAR
CALSCALE:GREGORIAN
PRODID:-//Ben Fortuna//iCal4j 1.0//EN
VERSION:2.0
BEGIN:VEVENT
DTSTAMP:20260120T220010Z
DTSTART:20260120T145000
DTEND:20260120T165000
SUMMARY:FY27 Budget\n\nIntroduction\n\nAdam Greshin\, Commissioner\, Depa
 rtment of Finance and Management\n\nHardy Merrill\, Deputy Commissioner\
 , Department of Finance and Management - Room 9
TZID:America/New_York
UID:20260120T220013Z-uidGen@richgoldman-357e73
END:VEVENT
BEGIN:VALARM
TRIGGER:-PT15M
ACTION:DISPLAY
DESCRIPTION:FY27 Budget\n\nIntroduction\n\nAdam Greshin\, Commissioner\, 
 Department of Finance and Management\n\nHardy Merrill\, Deputy Commissio
 ner\, Department of Finance and Management - Room 9
END:VALARM
END:VCALENDAR
