BEGIN:VCALENDAR
CALSCALE:GREGORIAN
PRODID:-//Ben Fortuna//iCal4j 1.0//EN
VERSION:2.0
BEGIN:VEVENT
DTSTAMP:20260120T190009Z
DTSTART:20260120T144500
DTEND:20260120T164500
SUMMARY:25-0991 - An act relating to establishing an extended producer re
 sponsibility program for beverage containers\n\nMichael O'Grady\, Deputy
  Chief Counsel\, Office of Legislative Counsel\n\n" - Room EA
TZID:America/New_York
UID:20260120T190033Z-uidGen@richgoldman-357e73
END:VEVENT
BEGIN:VALARM
TRIGGER:-PT15M
ACTION:DISPLAY
DESCRIPTION:25-0991 - An act relating to establishing an extended produce
 r responsibility program for beverage containers\n\nMichael O'Grady\, De
 puty Chief Counsel\, Office of Legislative Counsel\n\n" - Room EA
END:VALARM
END:VCALENDAR
