BEGIN:VCALENDAR
CALSCALE:GREGORIAN
PRODID:-//Ben Fortuna//iCal4j 1.0//EN
VERSION:2.0
BEGIN:VEVENT
DTSTAMP:20260120T150010Z
DTSTART:20260120T151500
DTEND:20260120T171500
SUMMARY:Education Income Tax Considerations\n\nPatrick Titterton\, Senior
  Fiscal Analyst\, Joint Fiscal Office - Invited\n\n" - Room 6
TZID:America/New_York
UID:20260120T150039Z-uidGen@richgoldman-357e73
END:VEVENT
BEGIN:VALARM
TRIGGER:-PT15M
ACTION:DISPLAY
DESCRIPTION:Education Income Tax Considerations\n\nPatrick Titterton\, Se
 nior Fiscal Analyst\, Joint Fiscal Office - Invited\n\n" - Room 6
END:VALARM
END:VCALENDAR
