BEGIN:VCALENDAR
CALSCALE:GREGORIAN
PRODID:-//Ben Fortuna//iCal4j 1.0//EN
VERSION:2.0
BEGIN:VEVENT
DTSTAMP:20260120T220010Z
DTSTART:20260120T153000
DTEND:20260120T173000
SUMMARY:Adjourn\n\n" - Room 4
TZID:America/New_York
UID:20260120T220017Z-uidGen@richgoldman-357e73
END:VEVENT
BEGIN:VALARM
TRIGGER:-PT15M
ACTION:DISPLAY
DESCRIPTION:Adjourn\n\n" - Room 4
END:VALARM
END:VCALENDAR
