BEGIN:VCALENDAR
CALSCALE:GREGORIAN
PRODID:-//Ben Fortuna//iCal4j 1.0//EN
VERSION:2.0
BEGIN:VEVENT
DTSTAMP:20260120T220010Z
DTSTART:20260120T160500
DTEND:20260120T180500
SUMMARY:Adjourn\n\n" - Room 49
TZID:America/New_York
UID:20260120T220022Z-uidGen@richgoldman-357e73
END:VEVENT
BEGIN:VALARM
TRIGGER:-PT15M
ACTION:DISPLAY
DESCRIPTION:Adjourn\n\n" - Room 49
END:VALARM
END:VCALENDAR
