BEGIN:VCALENDAR
CALSCALE:GREGORIAN
PRODID:-//Ben Fortuna//iCal4j 1.0//EN
VERSION:2.0
BEGIN:VEVENT
DTSTAMP:20260121T150010Z
DTSTART:20260121T023000
DTEND:20260121T043000
SUMMARY:H. 694 - An act relating to approval of amendments to the charter
  of the Town of Bennington concerning the Town Manager\n\nIntroduction\n
 \nRep. William "Will" Greer\, Sponsor\, House Corrections and Institutio
 ns\n\nTucker Anderson\, Legislative Counsel\, Office of Legislative Coun
 sel - Room M106
TZID:America/New_York
UID:20260121T150011Z-uidGen@richgoldman-357e73
END:VEVENT
BEGIN:VALARM
TRIGGER:-PT15M
ACTION:DISPLAY
DESCRIPTION:H. 694 - An act relating to approval of amendments to the cha
 rter of the Town of Bennington concerning the Town Manager\n\nIntroducti
 on\n\nRep. William "Will" Greer\, Sponsor\, House Corrections and Instit
 utions\n\nTucker Anderson\, Legislative Counsel\, Office of Legislative 
 Counsel - Room M106
END:VALARM
END:VCALENDAR
