BEGIN:VCALENDAR
CALSCALE:GREGORIAN
PRODID:-//Ben Fortuna//iCal4j 1.0//EN
VERSION:2.0
BEGIN:VEVENT
DTSTAMP:20260120T150010Z
DTSTART:20260121T090000
DTEND:20260121T110000
SUMMARY:Municipal Utilities: Fiscal Health and Oversight\n\nLouis Porter\
 , General Manager\, Washington Electric Cooperative\, Inc.\n\nRebecca To
 wne\, Chief Executive Officer\, Vermont Electric Cooperative\, Inc. - Ro
 om 32
TZID:America/New_York
UID:20260120T150041Z-uidGen@richgoldman-357e73
END:VEVENT
BEGIN:VALARM
TRIGGER:-PT15M
ACTION:DISPLAY
DESCRIPTION:Municipal Utilities: Fiscal Health and Oversight\n\nLouis Por
 ter\, General Manager\, Washington Electric Cooperative\, Inc.\n\nRebecc
 a Towne\, Chief Executive Officer\, Vermont Electric Cooperative\, Inc. 
 - Room 32
END:VALARM
END:VCALENDAR
