BEGIN:VCALENDAR
CALSCALE:GREGORIAN
PRODID:-//Ben Fortuna//iCal4j 1.0//EN
VERSION:2.0
BEGIN:VEVENT
DTSTAMP:20260120T160010Z
DTSTART:20260121T090000
DTEND:20260121T110000
SUMMARY:Cooperative Utilities\; Update\n\nLouis Porter\, General Manager\
 , Washington Electric Cooperative\, Inc.\n\nRebecca Towne\, Chief Execut
 ive Officer\, Vermont Electric Cooperative\, Inc. - Room 32
TZID:America/New_York
UID:20260120T160032Z-uidGen@richgoldman-357e73
END:VEVENT
BEGIN:VALARM
TRIGGER:-PT15M
ACTION:DISPLAY
DESCRIPTION:Cooperative Utilities\; Update\n\nLouis Porter\, General Mana
 ger\, Washington Electric Cooperative\, Inc.\n\nRebecca Towne\, Chief Ex
 ecutive Officer\, Vermont Electric Cooperative\, Inc. - Room 32
END:VALARM
END:VCALENDAR
