BEGIN:VCALENDAR
CALSCALE:GREGORIAN
PRODID:-//Ben Fortuna//iCal4j 1.0//EN
VERSION:2.0
BEGIN:VEVENT
DTSTAMP:20260120T190010Z
DTSTART:20260121T090000
DTEND:20260121T110000
SUMMARY:Agency of Transportation Updates\n\nBudget Overview. This will be
  a Joint Meeting with House Transportation. It will be held in Room 10 a
 nd livestreamed here: https://legislature.vermont.gov/committee/streamin
 g/house-transportation\n\nJoe Flynn\, Secretary\, Agency of Transportati
 on - Room 3
TZID:America/New_York
UID:20260120T190049Z-uidGen@richgoldman-357e73
END:VEVENT
BEGIN:VALARM
TRIGGER:-PT15M
ACTION:DISPLAY
DESCRIPTION:Agency of Transportation Updates\n\nBudget Overview. This wil
 l be a Joint Meeting with House Transportation. It will be held in Room 
 10 and livestreamed here: https://legislature.vermont.gov/committee/stre
 aming/house-transportation\n\nJoe Flynn\, Secretary\, Agency of Transpor
 tation - Room 3
END:VALARM
END:VCALENDAR
