BEGIN:VCALENDAR
CALSCALE:GREGORIAN
PRODID:-//Ben Fortuna//iCal4j 1.0//EN
VERSION:2.0
BEGIN:VEVENT
DTSTAMP:20260120T210010Z
DTSTART:20260121T090000
DTEND:20260121T110000
SUMMARY:Pre Kindergarten\n\nEmily Byrne\, Deputy Fiscal Officer\, Joint F
 iscal Office\n\nEzra Holben\, Fiscal Analyst\, Joint Fiscal Office\n\nTe
 d Barnett\, Fiscal Analyst\, Joint Fiscal Office\n\nMorgan Crossman\, Ph
 .D.\, Executive Director\, Building Bright Futures\n\nJanet McLaughlin\,
  Deputy Commissioner\, Child Development Division\, Department for Child
 ren and Families - Room 45
TZID:America/New_York
UID:20260120T210029Z-uidGen@richgoldman-357e73
END:VEVENT
BEGIN:VALARM
TRIGGER:-PT15M
ACTION:DISPLAY
DESCRIPTION:Pre Kindergarten\n\nEmily Byrne\, Deputy Fiscal Officer\, Joi
 nt Fiscal Office\n\nEzra Holben\, Fiscal Analyst\, Joint Fiscal Office\n
 \nTed Barnett\, Fiscal Analyst\, Joint Fiscal Office\n\nMorgan Crossman\
 , Ph.D.\, Executive Director\, Building Bright Futures\n\nJanet McLaughl
 in\, Deputy Commissioner\, Child Development Division\, Department for C
 hildren and Families - Room 45
END:VALARM
END:VCALENDAR
