BEGIN:VCALENDAR
CALSCALE:GREGORIAN
PRODID:-//Ben Fortuna//iCal4j 1.0//EN
VERSION:2.0
BEGIN:VEVENT
DTSTAMP:20260120T160010Z
DTSTART:20260121T090000
DTEND:20260121T110000
SUMMARY:Vermont Conservation Districts\n\nMichelle Monroe\, Executive Dir
 ector\, Vermont Association of Conservation Districts\n\nLauren Weston\,
  District Manager\, Franklin County Natural Resources Conservation Distr
 ict - Zoom\n\nMichael Fernandez\, District Manager\, Bennington County C
 onservation District - Zoom\n\nHilary Solomon\, District Manager\, Poult
 ney Mettowee Natural Resources Conservation District\n\nKatie Stiles\, D
 istrict Manager Rutland Natural Resources Conservation District - Room 2
 8
TZID:America/New_York
UID:20260120T160039Z-uidGen@richgoldman-357e73
END:VEVENT
BEGIN:VALARM
TRIGGER:-PT15M
ACTION:DISPLAY
DESCRIPTION:Vermont Conservation Districts\n\nMichelle Monroe\, Executive
  Director\, Vermont Association of Conservation Districts\n\nLauren West
 on\, District Manager\, Franklin County Natural Resources Conservation D
 istrict - Zoom\n\nMichael Fernandez\, District Manager\, Bennington Coun
 ty Conservation District - Zoom\n\nHilary Solomon\, District Manager\, P
 oultney Mettowee Natural Resources Conservation District\n\nKatie Stiles
 \, District Manager Rutland Natural Resources Conservation District - Ro
 om 28
END:VALARM
END:VCALENDAR
