BEGIN:VCALENDAR
CALSCALE:GREGORIAN
PRODID:-//Ben Fortuna//iCal4j 1.0//EN
VERSION:2.0
BEGIN:VEVENT
DTSTAMP:20260121T150010Z
DTSTART:20260121T090000
DTEND:20260121T110000
SUMMARY:FY26 Budget Adjustment Act\n\nDepartment of Disabilities\, Aging\
 , and Independent Living\n\nDr. Jill Bowen\, Commissioner\, Department o
 f Disabilities\, Aging and Independent Living\n\nBill Kelly\, Financial 
 Director\, Department of Disabilities\, Aging and Independent Living\n\n
 Jennifer Garabedian\, Director\, Developmental Disabilities Services Div
 ision\, Department of Disabilities\, Aging and Independent Living\n\nDyl
 an Frazer\, Deputy Director of Medicaid Policy\, Agency of Human Service
 s\n\nAngela McMann\, Adult Services Division\, Director\, Department of 
 Disabilities\, Aging and Independent Living\n\nAngela Smith-Dieng\, Depu
 ty Commissioner\, Department of Disabilities\, Aging and Independent Liv
 ing\n\nTracy O'Connell\, Chief Financial Officer\, Agency of Human Servi
 ces - Room 9
TZID:America/New_York
UID:20260121T150014Z-uidGen@richgoldman-357e73
END:VEVENT
BEGIN:VALARM
TRIGGER:-PT15M
ACTION:DISPLAY
DESCRIPTION:FY26 Budget Adjustment Act\n\nDepartment of Disabilities\, Ag
 ing\, and Independent Living\n\nDr. Jill Bowen\, Commissioner\, Departme
 nt of Disabilities\, Aging and Independent Living\n\nBill Kelly\, Financ
 ial Director\, Department of Disabilities\, Aging and Independent Living
 \n\nJennifer Garabedian\, Director\, Developmental Disabilities Services
  Division\, Department of Disabilities\, Aging and Independent Living\n\
 nDylan Frazer\, Deputy Director of Medicaid Policy\, Agency of Human Ser
 vices\n\nAngela McMann\, Adult Services Division\, Director\, Department
  of Disabilities\, Aging and Independent Living\n\nAngela Smith-Dieng\, 
 Deputy Commissioner\, Department of Disabilities\, Aging and Independent
  Living\n\nTracy O'Connell\, Chief Financial Officer\, Agency of Human S
 ervices - Room 9
END:VALARM
END:VCALENDAR
