BEGIN:VCALENDAR
CALSCALE:GREGORIAN
PRODID:-//Ben Fortuna//iCal4j 1.0//EN
VERSION:2.0
BEGIN:VEVENT
DTSTAMP:20260120T190010Z
DTSTART:20260121T090000
DTEND:20260121T110000
SUMMARY:H. 520 - An act relating to the right of users to control their s
 ocial media data\n\nIntroduction\n\nRep. Monique Priestley\, Sponsor\, H
 ouse Committee on Commerce and Economic Development - Room 35
TZID:America/New_York
UID:20260120T190040Z-uidGen@richgoldman-357e73
END:VEVENT
BEGIN:VALARM
TRIGGER:-PT15M
ACTION:DISPLAY
DESCRIPTION:H. 520 - An act relating to the right of users to control the
 ir social media data\n\nIntroduction\n\nRep. Monique Priestley\, Sponsor
 \, House Committee on Commerce and Economic Development - Room 35
END:VALARM
END:VCALENDAR
