BEGIN:VCALENDAR
CALSCALE:GREGORIAN
PRODID:-//Ben Fortuna//iCal4j 1.0//EN
VERSION:2.0
BEGIN:VEVENT
DTSTAMP:20260120T160010Z
DTSTART:20260121T090000
DTEND:20260121T110000
SUMMARY:H. 583 - An act relating to health care financial transactions an
 d clinical decision making\n\nTestimony\n\nMaureen Hensley-Quinn\, Senio
 r Director\, National Association of State Health Policy (NASHP)\n\nZiru
 i Song\, Harvard Medical School - Invited\n\nMike Fisher\, Chief Health 
 Care Advocate\, Vermont Legal Aid\n\nSam Peisch\, Health Policy Analyst\
 , Vermont Legal Aid - Room 42
TZID:America/New_York
UID:20260120T160035Z-uidGen@richgoldman-357e73
END:VEVENT
BEGIN:VALARM
TRIGGER:-PT15M
ACTION:DISPLAY
DESCRIPTION:H. 583 - An act relating to health care financial transaction
 s and clinical decision making\n\nTestimony\n\nMaureen Hensley-Quinn\, S
 enior Director\, National Association of State Health Policy (NASHP)\n\n
 Zirui Song\, Harvard Medical School - Invited\n\nMike Fisher\, Chief Hea
 lth Care Advocate\, Vermont Legal Aid\n\nSam Peisch\, Health Policy Anal
 yst\, Vermont Legal Aid - Room 42
END:VALARM
END:VCALENDAR
