BEGIN:VCALENDAR
CALSCALE:GREGORIAN
PRODID:-//Ben Fortuna//iCal4j 1.0//EN
VERSION:2.0
BEGIN:VEVENT
DTSTAMP:20260121T150010Z
DTSTART:20260121T090000
DTEND:20260121T110000
SUMMARY:H. 237 - An act relating to prescribing by doctoral-level psychol
 ogists\n\nEmily Carr\, General Counsel\, Office of Professional Regulati
 on\n\nEmily Tredeau\, Staff Attorney\, Office of Professional Regulation
 \n\nStephanie Winters\, Deputy Executive Director\, Vermont Medical Soci
 ety & Vermont Psychiatric Association\n\nBrandon Campo\, Ph.D.\, LBA\, O
 HCC\, Vermont Psychological and Neurofeedback Center\, LLC - Zoom\n\nDr.
  Rick Barnett\, Psy.D.\, LADC\, Vermont Psychological Association - Room
  17
TZID:America/New_York
UID:20260121T150020Z-uidGen@richgoldman-357e73
END:VEVENT
BEGIN:VALARM
TRIGGER:-PT15M
ACTION:DISPLAY
DESCRIPTION:H. 237 - An act relating to prescribing by doctoral-level psy
 chologists\n\nEmily Carr\, General Counsel\, Office of Professional Regu
 lation\n\nEmily Tredeau\, Staff Attorney\, Office of Professional Regula
 tion\n\nStephanie Winters\, Deputy Executive Director\, Vermont Medical 
 Society & Vermont Psychiatric Association\n\nBrandon Campo\, Ph.D.\, LBA
 \, OHCC\, Vermont Psychological and Neurofeedback Center\, LLC - Zoom\n\
 nDr. Rick Barnett\, Psy.D.\, LADC\, Vermont Psychological Association - 
 Room 17
END:VALARM
END:VCALENDAR
