BEGIN:VCALENDAR
CALSCALE:GREGORIAN
PRODID:-//Ben Fortuna//iCal4j 1.0//EN
VERSION:2.0
BEGIN:VEVENT
DTSTAMP:20260121T150010Z
DTSTART:20260121T090000
DTEND:20260121T110000
SUMMARY:S. 202 - An act relating to portable solar energy generation devi
 ces\n\nClaire Emanuel \, Student\, Middlebury College\n\nSophia Gaaluppo
 \, Student\, Middlebury College\n\nJenny Carter\, Vermont Law School - R
 oom 8
TZID:America/New_York
UID:20260121T150022Z-uidGen@richgoldman-357e73
END:VEVENT
BEGIN:VALARM
TRIGGER:-PT15M
ACTION:DISPLAY
DESCRIPTION:S. 202 - An act relating to portable solar energy generation 
 devices\n\nClaire Emanuel \, Student\, Middlebury College\n\nSophia Gaal
 uppo\, Student\, Middlebury College\n\nJenny Carter\, Vermont Law School
  - Room 8
END:VALARM
END:VCALENDAR
