BEGIN:VCALENDAR
CALSCALE:GREGORIAN
PRODID:-//Ben Fortuna//iCal4j 1.0//EN
VERSION:2.0
BEGIN:VEVENT
DTSTAMP:20260120T220010Z
DTSTART:20260121T090000
DTEND:20260121T110000
SUMMARY:Governor’s Proposed FY2027 Budget\n\nCommittee discussion - Room 
 46
TZID:America/New_York
UID:20260120T220025Z-uidGen@richgoldman-357e73
END:VEVENT
BEGIN:VALARM
TRIGGER:-PT15M
ACTION:DISPLAY
DESCRIPTION:Governor’s Proposed FY2027 Budget\n\nCommittee discussion - R
 oom 46
END:VALARM
END:VCALENDAR
