BEGIN:VCALENDAR
CALSCALE:GREGORIAN
PRODID:-//Ben Fortuna//iCal4j 1.0//EN
VERSION:2.0
BEGIN:VEVENT
DTSTAMP:20260121T160010Z
DTSTART:20260121T090000
DTEND:20260121T110000
SUMMARY:Outdoor Recreation\n\nKelly Ault\, Executive Director\, Vermont O
 utdoor Business Alliance\n\nNatalie Starr\, Board Member\, Ascutney Outd
 oors\n\nJill Sudhoff-Guerin\, Founder\, Maidstone Public Relations - Roo
 m 27
TZID:America/New_York
UID:20260121T160014Z-uidGen@richgoldman-357e73
END:VEVENT
BEGIN:VALARM
TRIGGER:-PT15M
ACTION:DISPLAY
DESCRIPTION:Outdoor Recreation\n\nKelly Ault\, Executive Director\, Vermo
 nt Outdoor Business Alliance\n\nNatalie Starr\, Board Member\, Ascutney 
 Outdoors\n\nJill Sudhoff-Guerin\, Founder\, Maidstone Public Relations -
  Room 27
END:VALARM
END:VCALENDAR
