BEGIN:VCALENDAR
CALSCALE:GREGORIAN
PRODID:-//Ben Fortuna//iCal4j 1.0//EN
VERSION:2.0
BEGIN:VEVENT
DTSTAMP:20260120T210010Z
DTSTART:20260121T090000
DTEND:20260121T110000
SUMMARY:Committee Security Training\n\nMeeting Will Not be Live Streamed 
 Due to Sensitive Content - Room 30
TZID:America/New_York
UID:20260120T210026Z-uidGen@richgoldman-357e73
END:VEVENT
BEGIN:VALARM
TRIGGER:-PT15M
ACTION:DISPLAY
DESCRIPTION:Committee Security Training\n\nMeeting Will Not be Live Strea
 med Due to Sensitive Content - Room 30
END:VALARM
END:VCALENDAR
